BEGIN:VCALENDAR
VERSION:2.0
PRODID:-//kontempluj.pl - ECPv6.6.1//NONSGML v1.0//EN
CALSCALE:GREGORIAN
METHOD:PUBLISH
X-ORIGINAL-URL:https://kontempluj.pl
X-WR-CALDESC:Wydarzenia dla kontempluj.pl
REFRESH-INTERVAL;VALUE=DURATION:PT1H
X-Robots-Tag:noindex
X-PUBLISHED-TTL:PT1H
BEGIN:VTIMEZONE
TZID:Europe/Warsaw
BEGIN:DAYLIGHT
TZOFFSETFROM:+0100
TZOFFSETTO:+0200
TZNAME:CEST
DTSTART:20250330T010000
END:DAYLIGHT
BEGIN:STANDARD
TZOFFSETFROM:+0200
TZOFFSETTO:+0100
TZNAME:CET
DTSTART:20251026T010000
END:STANDARD
END:VTIMEZONE
BEGIN:VEVENT
DTSTART;TZID=Europe/Warsaw:20250627T180000
DTEND;TZID=Europe/Warsaw:20250704T133000
DTSTAMP:20260420T060208
CREATED:20250306T135601Z
LAST-MODIFIED:20250306T140719Z
UID:1955-1751047200-1751635800@kontempluj.pl
SUMMARY:Festiwal Głębi - I turnus Mazury
DESCRIPTION:Wspólnie stworzymy inspirującą i bezpieczną przestrzeń umożliwiającą zintegrowany rozwój\, odpoczynek\, zabawę oraz budowanie autentycznych\, głębokich relacji z Bogiem\, który jest Życiem\, z drugim człowiekiem i z samym sobą. \nPodczas Festiwalu Głębi łączymy psychologię\, duchowość i ciało\, widząc w tym połączeniu ogromny potencjał i szansę na szczęśliwe i uważne życie. \nProwadzący: \n\no. Wit Chlondowski OFM\nAleksandra Salej\nMonika Myszka-Wieczerzak\nMonika Chochla\nJoanna Mazurek\nBeata Chrudzimska\nAnna Ałaj\nHanna Trzewiczyńska\no. Piotr Wardawy OFMCap\nPatrycja Lenart\no. Mieczysław Łusiak SJ\nMarek Kita\no. Dariusz Piórkowski SJ\no. Rafał Huzarski SJ\nSandra Bernadetta Tatarczak\no. Roman Groszewski SJ
URL:https://kontempluj.pl/wydarzenie/festiwal-glebi-i-turnus-mazury/
LOCATION:Ośrodek Wiatraki\, Ośrodek Wiatraki Marózek 1\, 11-015\, Marózek\, 11-015\, Poland
CATEGORIES:Rekolekcje
ATTACH;FMTTYPE=image/jpeg:https://kontempluj.pl/wp-content/uploads/2025/03/wiatraki.jpg
ORGANIZER;CN="Fundacja Pog%C5%82%C4%99biarka":MAILTO:kontakt@poglebiarka.pl
END:VEVENT
BEGIN:VEVENT
DTSTART;VALUE=DATE:20250704
DTEND;VALUE=DATE:20250712
DTSTAMP:20260420T060208
CREATED:20250306T140018Z
LAST-MODIFIED:20250306T140756Z
UID:1960-1751587200-1752278399@kontempluj.pl
SUMMARY:Festiwal Głębi - II turnus Mazury
DESCRIPTION:Wspólnie stworzymy inspirującą i bezpieczną przestrzeń umożliwiającą zintegrowany rozwój\, odpoczynek\, zabawę oraz budowanie autentycznych\, głębokich relacji z Bogiem\, który jest Życiem\, z drugim człowiekiem i z samym sobą. \nPodczas Festiwalu Głębi łączymy psychologię\, duchowość i ciało\, widząc w tym połączeniu ogromny potencjał i szansę na szczęśliwe i uważne życie. \nProwadzący: \n\nbr. Adam Zwierz\nMichał Tlałka\nMagdalena Poprawa\ns. Zuzanna Głasek\nMarta Łazarczyk\nMarcin Lewandowski\nSandra Bernadetta Tatarczak\no. Mateusz Filipowski OCD\nPatrycja Lenart\nMateusz Banasiuk\nAgata Gregorkiewicz\nUrszula Dąbrowska\nRenata Werpachowska\no. Rafał Huzarski SJ\nAgnieszka Zaborowska
URL:https://kontempluj.pl/wydarzenie/festiwal-glebi-ii-turnus-mazury/
LOCATION:Ośrodek Wiatraki\, Ośrodek Wiatraki Marózek 1\, 11-015\, Marózek\, 11-015\, Poland
CATEGORIES:Rekolekcje
ATTACH;FMTTYPE=image/jpeg:https://kontempluj.pl/wp-content/uploads/2025/03/wiatraki.jpg
ORGANIZER;CN="Fundacja Pog%C5%82%C4%99biarka":MAILTO:kontakt@poglebiarka.pl
END:VEVENT
BEGIN:VEVENT
DTSTART;VALUE=DATE:20250712
DTEND;VALUE=DATE:20250720
DTSTAMP:20260420T060208
CREATED:20250306T140521Z
LAST-MODIFIED:20250306T140521Z
UID:1964-1752278400-1752969599@kontempluj.pl
SUMMARY:Festiwal Głębi - III turnus Mazury
DESCRIPTION:Wspólnie stworzymy inspirującą i bezpieczną przestrzeń umożliwiającą zintegrowany rozwój\, odpoczynek\, zabawę oraz budowanie autentycznych\, głębokich relacji z Bogiem\, który jest Życiem\, z drugim człowiekiem i z samym sobą. \nPodczas Festiwalu Głębi łączymy psychologię\, duchowość i ciało\, widząc w tym połączeniu ogromny potencjał i szansę na szczęśliwe i uważne życie. \nProwadzący: \n\nGabriela Klusek\nAleksandra Salej\no. Maciej Biskup OP\nTomasz Przybylski\ns. Zuzanna Głasek\nAlicja Owczarek\no. Brunon Koniecko OSB\nMarta Abramczyk\nArek Nalej\no. Mateusz Paluch OP\nMaja Wyborska\nAgnieszka Zaborowska\nAnna Ałaj\nUrszula Dąbrowska\no. Rafał Huzarski SJ\no. Dariusz Piórkowski SJ
URL:https://kontempluj.pl/wydarzenie/festiwal-glebi-iii-turnus-mazury/
LOCATION:Ośrodek Wiatraki\, Ośrodek Wiatraki Marózek 1\, 11-015\, Marózek\, 11-015\, Poland
CATEGORIES:Rekolekcje
ATTACH;FMTTYPE=image/jpeg:https://kontempluj.pl/wp-content/uploads/2025/03/wiatraki.jpg
ORGANIZER;CN="Fundacja Pog%C5%82%C4%99biarka":MAILTO:kontakt@poglebiarka.pl
END:VEVENT
BEGIN:VEVENT
DTSTART;VALUE=DATE:20250721
DTEND;VALUE=DATE:20250728
DTSTAMP:20260420T060208
CREATED:20250306T121207Z
LAST-MODIFIED:20250306T121207Z
UID:1938-1753056000-1753660799@kontempluj.pl
SUMMARY:Sesja medytacyjna OMC Lubin tygodniowe
DESCRIPTION:Sesja medytacyjna organizowana przez Ośrodek Medytacji Chrześcijańskiej. \nProwadzący: o. Maksymilian Nawara OSB \nRozpoczęcie zapisów: 5 maja 2024\, godz. 19:00
URL:https://kontempluj.pl/wydarzenie/sesja-medytacyjna-omc-lubin-tygodniowe/
LOCATION:Opactwo Benedyktynów w Lubiniu\, Opactwo Benedyktynów w Lubiniu\, Mickiewicza 6\, 64-010 Lubiń\, Lubiń\, 64-010
CATEGORIES:Rekolekcje
ATTACH;FMTTYPE=image/jpeg:https://kontempluj.pl/wp-content/uploads/2025/03/lubin-1.jpg
ORGANIZER;CN="O%C5%9Brodek Medytacji Chrze%C5%9Bcija%C5%84skiej w Lubiniu":MAILTO:osrodek@lubin-medytacje.pl
END:VEVENT
END:VCALENDAR