BEGIN:VCALENDAR
VERSION:2.0
PRODID:-//kontempluj.pl - ECPv6.6.1//NONSGML v1.0//EN
CALSCALE:GREGORIAN
METHOD:PUBLISH
X-ORIGINAL-URL:https://kontempluj.pl
X-WR-CALDESC:Wydarzenia dla kontempluj.pl
REFRESH-INTERVAL;VALUE=DURATION:PT1H
X-Robots-Tag:noindex
X-PUBLISHED-TTL:PT1H
BEGIN:VTIMEZONE
TZID:Europe/Warsaw
BEGIN:DAYLIGHT
TZOFFSETFROM:+0100
TZOFFSETTO:+0200
TZNAME:CEST
DTSTART:20250330T010000
END:DAYLIGHT
BEGIN:STANDARD
TZOFFSETFROM:+0200
TZOFFSETTO:+0100
TZNAME:CET
DTSTART:20251026T010000
END:STANDARD
END:VTIMEZONE
BEGIN:VEVENT
DTSTART;TZID=Europe/Warsaw:20250507T170000
DTEND;TZID=Europe/Warsaw:20250511T130000
DTSTAMP:20260420T092151
CREATED:20250305T160016Z
LAST-MODIFIED:20250305T160309Z
UID:1911-1746637200-1746968400@kontempluj.pl
SUMMARY:Oddychać imieniem - Opactwo Tynieckie - maj
DESCRIPTION:(!) Tylko dla tych\, którzy już byli na rekolekcjach Oddychać Imieniem \nModlitwa Jezusowa jest starożytną praktyką modlitewną\, która pomaga każdemu i w każdej chwili żyć w łączności z Panem Bogiem. Jej prostota i głębia sprawiają\, że nie ma miejsca\, sytuacji\, stanu\, zawodu\, który uniemożliwiałby otrzymanie daru modlitwy nieustannej. Drogą do niej jest wierne i wytrwałe przyzywanie Imienia Jezus. „Niech pamięć o Jezusie złączy się z twym oddechem\, a wówczas poznasz pożytek wyciszenia” — powiada św. Jan Klimak. Do praktyki tej modlitwy chcemy zaprosić zarówno tych\, którzy ją znają\, jak i tych\, którzy jej nie doświadczyli. \nWarto wziąć ze sobą luźny i swobodny strój\, aby nie utrudniał on praktykowania różnych form modlitwy Jezusowej. \nFormy praktyki modlitwy Jezusowej:\n \n\nMedytacja siedząca – do medytacji siedzącej używamy poduszki\, klęcznika lub krzesła. Staramy się nie poruszać i utrzymać pozycję wyprostowaną. Każdą praktykę modlitwy Jezusowej rozpoczyna i kończy dźwięk dawany przez prowadzącego rekolekcje. Po zakończeniu medytacji siedzącej czynimy pokłon z rękami złożonymi w ramach podziękowania za wspólną modlitwę.\nMedytacja w ruchu – do medytacji w ruchu przechodzimy po medytacji siedzącej. Należy to uczynić w sposób płynny\, powolny i spokojny. W przypadku zdrętwienia nóg czy zawrotów głowy należy odczekać do momentu odzyskania pełni sił. Po usłyszeniu dźwięku rozpoczynamy ruch wokół mat. W czasie chodzenia można opuścić salę\, ale należy wrócić przed rozpoczęciem medytacji siedzącej. Medytację w ruchu kończy dźwięk dawany przez prowadzącego. Podczas medytacji w ruchu poruszamy się zgodnie z ruchem wskazówek zegara\, zachowując pomiędzy sobą równą odległość. Czas trwania tej praktyki to kilka minut. Podczas medytacji w ruchu należy poruszać się w sposób spokojny i równomierny. Staramy się nie zatrzymywać\, ale być cały czas w ruchu.\nMetanie – praktyka pokłonów poprzedza każdego dnia pierwszą medytację siedzącą. Ten starożytny gest modlitewny jest jednym ze sposobów okazania czci dla naszego Boga. Prowadzący medytację podaje jego zasady i wprowadza do wykonywania tej praktyki.\n\nSala do medytacji – jest to miejsce praktyki modlitwy Jezusowej. Przed wejściem do sali medytacyjnej zdejmujemy buty. Wchodząc do sali oddajemy pokłon krzyżowi na stojąco ze złożonymi rękoma. Następnie podchodzimy do maty i stajemy blisko jej krawędzi. Nie przechodzimy przez środek sali. Zawsze poruszamy się po zewnętrznej stronie mat\, tak jak podczas medytacji w ruchu. Wychodząc z sali również oddajemy pokłon krzyżowi. Sala jest miejscem wspólnej modlitwy\, dlatego tutaj nie rozmawiamy\, zachowując skupienie. Każdą czynność staramy się wykonać spokojnie\, bez pośpiechu\, z należytą koncentracją\, bez niepotrzebnych rozproszeń. Przed pierwszą medytacją wybieramy matę i poduszkę lub klęcznik\, gdzie będziemy siedzieć już do końca rekolekcji. Po wybraniu miejsca stoimy przed swoją matą i czekamy na znak\, aby się pokłonić wszystkim. Następnie siadamy na macie\, twarzami do siebie. \nMonastyczna Liturgia Godzin – uczestnicy sesji medytacyjnej są zaproszeni do udziału we wszystkich modlitwach z mnichami w kościele. W Vedemecum tynieckim\, które otrzymuje każdy uczestnik rekolekcji\, podane są strony w brewiarzu na poszczególne godziny Liturgii Godzin oraz teksty łacińskie na nieszpory i kompletę. \nMilczenie – ważnym elementem całego okresu rekolekcji jest praktyka ciszy. Milczenie jest jednym z podstawowych warunków rozwoju duchowego. Pozwala skierować umysł i myśli ku wnętrzu\, zachować skupienie i koncentrację. Praktyka milczenia sprzyja poznawaniu samego siebie\, bycia ze sobą. Wszyscy uczestnicy rekolekcji są zaproszeni do przeżycia tego czasu w skupieniu. Dotyczy to również spożywania posiłków. \nCeremonia koła – kończy rekolekcje. Wtedy siadamy wszyscy w kręgu i możemy podzielić się swoimi odczuciami i refleksjami. To również okazja dla każdego do podziękowania wszystkim za wspólną praktykę modlitwy Jezusowej. Poznanie doświadczenia innych bardzo pomaga w pogłębieniu własnej praktyki. \nAdresaci: Wszyscy\, którzy są zainteresowani modlitwą Imieniem Jezus.
URL:https://kontempluj.pl/wydarzenie/oddychac-imieniem-opactwo-tynieckie-maj/
LOCATION:Opactwo Benedyktynów w Tyńcu\, Benedyktyńska 37\, 30-398 Kraków\, Kraków\, 30-398
CATEGORIES:Rekolekcje
ATTACH;FMTTYPE=image/jpeg:https://kontempluj.pl/wp-content/uploads/2025/03/brunon_koniecko.jpg
END:VEVENT
BEGIN:VEVENT
DTSTART;VALUE=DATE:20250523
DTEND;VALUE=DATE:20250526
DTSTAMP:20260420T092151
CREATED:20250306T115720Z
LAST-MODIFIED:20250306T131835Z
UID:1930-1747958400-1748217599@kontempluj.pl
SUMMARY:Sesja medytacyjna OMC Lubiń
DESCRIPTION:Sesja medytacyjna organizowana przez Ośrodek Medytacji Chrześcijańskiej. \nProwadzący: o. Maksymilian Nawara OSB \nRozpoczęcie zapisów: 17 marca 2025\, godz. 19:00
URL:https://kontempluj.pl/wydarzenie/sesja-medytacyjna-omc-lubin/
LOCATION:Opactwo Benedyktynów w Lubiniu\, Opactwo Benedyktynów w Lubiniu\, Mickiewicza 6\, 64-010 Lubiń\, Lubiń\, 64-010
CATEGORIES:Rekolekcje
ATTACH;FMTTYPE=image/jpeg:https://kontempluj.pl/wp-content/uploads/2025/03/lubin-1.jpg
ORGANIZER;CN="O%C5%9Brodek Medytacji Chrze%C5%9Bcija%C5%84skiej w Lubiniu":MAILTO:osrodek@lubin-medytacje.pl
END:VEVENT
BEGIN:VEVENT
DTSTART;TZID=Europe/Warsaw:20250524T093000
DTEND;TZID=Europe/Warsaw:20250524T190000
DTSTAMP:20260420T092151
CREATED:20250317T095410Z
LAST-MODIFIED:20250317T095951Z
UID:2147-1748079000-1748113200@kontempluj.pl
SUMMARY:Mistyka Ciszy - Spotkanie kontemplacyjne
DESCRIPTION:Czujesz\, że w tym zabieganym i rozkrzyczanym świecie brakuje Ci głębokiego odpoczynku i wytchnienia? Tęsknisz za ciszą\, choć na co dzień masz tak mało okazji\, by się w nią zanurzyć? A może przeciwnie – wiesz\, że postawa wyciszenia jest ważna\, ale unikasz jej\, bo obawiasz się tego\, co usłyszysz w sobie? \nZapraszamy Cię na wydarzenie – „Mistyka Ciszy”\, gdzie pomożemy Ci oswoić to doświadczenie oraz pokażemy Ci duchowy wymiar zasłuchania i milczenia. \n\n\n\n\nMistyka Ciszy – WIĘCEJ NIŻ ZWYKŁE SPOTKANIE\n\n\n\n\nChcemy dać Ci zasmakować Ciszy przez duże “C”.\nOna jest na wyciągnięcie ręki. Potrzebujesz się w Niej tylko z ufnością zanurzyć. \nTo nie będzie kolejna konferencja o duchowości. To doświadczenie starannie utkane z subtelnych dźwięków\, obrazów i słów. To podróż w głąb – w przestrzeń milczenia\, która jest święta i tętni Obecnością Żywego Boga. \nChcemy stworzyć warunki\, które pomogą Ci wejść w tę przestrzeń i doświadczyć spotkania z Bogiem – w sobie i pomiędzy nami. \n\n\n\n\n\n\n\n\nOrganizatorzy wydarzenia:\n\n\n\n\nJesteśmy przedstawicielami kilku środowisk\, które przybliżają w Polsce tradycję modlitwy kontemplatywnej.\n\n\n\n\n\n  \n\n\n\n\n\n\n\n\n\n\n\n\nDaniel Wojda | Pogłębiarka \n\n\n\n\n\n\n\n\n\nMonika i Marcin Gajdowie | Fundacja Theosis \n\n\n\n\n\n\n\n\n\nDariusz Hybel | Ośrodek Medytacji Chrześcijańskiej w Lubiniu \n\n\n\n\n\n\n\n\n\no. Brunon Koniecko OSB | Opactwo Benedyktynów w Tyńcu \n\n\n\n\n\n\n\n\n\no. Mateusz Filipowski OCD| Karmelitańska Szkoła Modlitwy \n\n\n\n\n\n\n\n\n\no. Roman Groszewski SJ | Jezuickie Domy Rekolekcyjne \n\n\n\n\n\n\n\n\n\nMalwina Okrzesik | WCCM \n\n\n\n\n\n\n\n\n\nPiotr Sikora | wykładowca Akademii Ignatianum w Krakowie \n\n\n\n\n\n\n\n\n\nJacek Gałkiewicz | Fundacja Theosis \n\n\n\n\n\n\n\n\n\nArtur Piskała | Fundacja Theosis \n\n\n\n\n\n\n\n\n\nArkadiusz Nalej | Pogłębiarka \n\n\n\n\n\n\n\n\n\nMonika Myszka-Wieczerzak | Pogłębiarka \n\n\n\n\n\nKażdego z nas ta Cisza kiedyś przywołała – i nie mogliśmy się jej oprzeć. Weszliśmy w objęcia cichej Miłującej Obecności Boga – Odwiecznej Tajemnicy\, której nie sposób w pełni wyrazić słowami. Teraz chcemy podzielić się tym doświadczeniem z Tobą – człowiekiem spragnionym głębi i poczucia sensu. \n\n\n\n\n\n\n\n\nCzy to wydarzenie jest dla Ciebie?\n\n\n\n\nDołącz do nas\, jeśli: \n\nczujesz\, że dotychczasowe formy modlitwy już Cię nie karmią tak\, jak kiedyś i nie wiesz\, jak dalej owocnie trwać w relacji z Bogiem\,\nciekawi Cię\, jaką alternatywę dla wschodnich i świeckich form medytacji ma Kościół Katolicki\,\nchcesz odkryć chrześcijańską tradycję modlitwy kontemplatywnej – niegdyś zapomnianą\, dziś na nowo odkrywaną.\n\nChcemy pokazać Ci\, że mistyka nie jest przeznaczona tylko dla mnichów\, ale także dla Ciebie – w Twojej codzienności. \nZadbamy o to\, byś mógł doświadczyć piękna cichego obcowania z Bogiem zamieszkującym Twoje wnętrze. \n\nProsta\, ale wymowna dekoracja.\nPiękna oprawa muzyczna.\nKarmiące słowa\, które krok po kroku pomogą Ci wnikać w Ciszę.\nProste gesty\, do których będziemy zachęcali podczas przerw\, żeby wspólnie celebrować ciszę w wymiarze międzyludzkim.\n\nWszystko po to\, by móc wrócić do domu przemienionym. Świadomym\, że Źródło Ciszy jest w Tobie i możesz do niego wracać każdego dnia. \n\n\n\n\n\n\n\n\n\n\n\n\n\n\n 
URL:https://kontempluj.pl/wydarzenie/mistyka-ciszy-spotkanie-kontemplacyjne/
LOCATION:Centrum Edukacji DANIEL\, ul. Nowoursynowska 154A\, Centrum Edukacji DANIEL\, Warszawa\, ul. Nowoursynowska 154A\, Warszawa\, 02-797\, Poland
ATTACH;FMTTYPE=image/jpeg:https://kontempluj.pl/wp-content/uploads/2025/03/mistyka-ciszy-kwadraty-2_Easy-Resize.com_-768x768-1.jpg
ORGANIZER;CN="Fundacja Pog%C5%82%C4%99biarka":MAILTO:kontakt@poglebiarka.pl
END:VEVENT
END:VCALENDAR