BEGIN:VCALENDAR
VERSION:2.0
PRODID:-//kontempluj.pl - ECPv6.6.1//NONSGML v1.0//EN
CALSCALE:GREGORIAN
METHOD:PUBLISH
X-WR-CALNAME:kontempluj.pl
X-ORIGINAL-URL:https://kontempluj.pl
X-WR-CALDESC:Wydarzenia dla kontempluj.pl
REFRESH-INTERVAL;VALUE=DURATION:PT1H
X-Robots-Tag:noindex
X-PUBLISHED-TTL:PT1H
BEGIN:VTIMEZONE
TZID:Europe/Warsaw
BEGIN:DAYLIGHT
TZOFFSETFROM:+0100
TZOFFSETTO:+0200
TZNAME:CEST
DTSTART:20250330T010000
END:DAYLIGHT
BEGIN:STANDARD
TZOFFSETFROM:+0200
TZOFFSETTO:+0100
TZNAME:CET
DTSTART:20251026T010000
END:STANDARD
END:VTIMEZONE
BEGIN:VEVENT
DTSTART;TZID=Europe/Warsaw:20250404T180000
DTEND;TZID=Europe/Warsaw:20250406T150000
DTSTAMP:20260420T105821
CREATED:20250305T150401Z
LAST-MODIFIED:20250305T153651Z
UID:1891-1743789600-1743951600@kontempluj.pl
SUMMARY:Moje Serce Domem Ojca - Krynica Zdrój
DESCRIPTION:Moje Serce – domem Ojca \nWielki Post to czas szczególnego zaproszenia – by skierować swoją uwagę ku temu\, co kryje nasze serce. To szansa\, by podążyć w głąb\, zmierzyć się z trudnościami i przeszkodami\, które blokują dostęp do jego głębi. Przez ile warstw i złogów trzeba się przedostać\, ile z nich usunąć i oczyścić\, by na nowo zamieszkać w przestrzeni serca\, która okazuje się jednocześnie prawdziwym domem Ojca\, miejscem zamieszkania Trójcy. \nOdkrywanie bogactwa własnego serca wymaga odwagi – wymaga decyzji\, by wyruszyć w drogę. Nie jesteśmy jednak sami.\nMiłość\, która zaprasza\, jest pełna mocy i mądrości. Jeśli czujesz\, że to wezwanie jest również dla Ciebie\, zapraszamy Cię do wspólnej wędrówki – w ciszy\, w głębi\, w otwartości. \nTo będzie integralne doświadczenie pracy duchowej\, w którym: \n✨ wejdziemy w ciszę i milczenie\, otwierając się na głębsze słuchanie\, \n✨ znajdziemy przestrzeń na indywidualną refleksję i samotność\, ale również możliwość osobistej rozmowy z o. Wojciechem\, \n✨ połączymy duchowość z pracą z ciałem – poprzez ruch intuicyjny i terapię Bowena\, \n✨ uczestniczyć będziemy w prowadzonych medytacjach\, które otworzą naszą wewnętrzną przestrzeń serca. \nTo rekolekcje dla tych\, którzy pragną odnaleźć w sercu swój dom i pozwolić Miłości poprowadzić się dalej. \n🕊️ Nie obawiaj się. Dołącz do nas.
URL:https://kontempluj.pl/wydarzenie/moje-serce-domem-ojca-krynica-zdroj/
LOCATION:Willa Leśna Polana w Krynicy Zdrój\, prof. Henryka Świdzińskiego 37\, Krynica-Zdrój\, 33-380\, Poland
CATEGORIES:Rekolekcje
ATTACH;FMTTYPE=image/png:https://kontempluj.pl/wp-content/uploads/2025/03/lesnapolana.png
END:VEVENT
BEGIN:VEVENT
DTSTART;VALUE=DATE:20250411
DTEND;VALUE=DATE:20250414
DTSTAMP:20260420T105821
CREATED:20250306T112523Z
LAST-MODIFIED:20250306T131817Z
UID:1925-1744329600-1744588799@kontempluj.pl
SUMMARY:Sesja medytacyjna OMC Żdżary
DESCRIPTION:Sesja medytacyjna organizowana przez Ośrodek Medytacji Chrześcijańskiej. \nProwadzący: o. Maksymilian Nawara OSB \nRozpoczęcie zapisów: 17 lutego 2025\, godz. 19:00
URL:https://kontempluj.pl/wydarzenie/sesja-medytacyjna-omc-zdzary/
LOCATION:Dom Rekolekcyjny im. Bł. Franciszki Siedliskiej w Żdżarach k. Nowego Miasta n. Pilicą\, Dom Rekolekcyjny im. bł. Franciszki Siedliskiej\, Żdżary 74\, 26-420 Żdżary\, Żdżary\, 26-420\, Poland
CATEGORIES:Rekolekcje
ATTACH;FMTTYPE=image/jpeg:https://kontempluj.pl/wp-content/uploads/2025/03/zdzary.jpg
ORGANIZER;CN="O%C5%9Brodek Medytacji Chrze%C5%9Bcija%C5%84skiej w Lubiniu":MAILTO:osrodek@lubin-medytacje.pl
END:VEVENT
BEGIN:VEVENT
DTSTART;TZID=Europe/Warsaw:20250425T180000
DTEND;TZID=Europe/Warsaw:20250427T133000
DTSTAMP:20260420T105821
CREATED:20250305T153229Z
LAST-MODIFIED:20250305T153640Z
UID:1898-1745604000-1745760600@kontempluj.pl
SUMMARY:Tchnienie ciszy - Rycerka Górna
DESCRIPTION:Sesja „Tchnienie ciszy” jest zaproszeniem do wspólnego wejścia w przestrzeń serca\, gdzie możemy odkrywać Odwieczną Miłość\, którą najczęściej nazywamy Bogiem. To przebywanie w blasku miłości dokonuje się w ciszy i w postawie całkowitego zaufania i zgody na to\, by zostać przemienionym mocą tejże miłości\, praktykę tę nazywamy – modlitwą głębi. Chociaż w naszej sesji akcent pada na rozwój duchowy\, to jednak nie może być oderwany od ciała i umysłu. Dlatego znajdziemy czas na pracę z ciałem i ruch\, w tańcu intuicyjnym\, oraz słowa\, które bedą pokarmem dla naszego umysłu. Gdy dołączymy do tego piękno miejsca\, w którym będziemy i piękno ludzi\, którzy będą razem z nami\, wtedy otwiera się przed nami perspektywa czasu przemiany\, wzrostu i dojrzewania\, za którym tęskni nasze serce i dusza.
URL:https://kontempluj.pl/wydarzenie/moje-serce-domem-ojca-rycerka-gorna/
LOCATION:Dom Rekolekcyjny Zgromadzenia Świętego Michała Archanioła\, Dom Rekolekcyjny Zgromadzenia Świętego Michała Archanioła\, Rycerka Górna 147\, Rycerka Górna\, 34-370\, Poland
CATEGORIES:Rekolekcje
ATTACH;FMTTYPE=image/jpeg:https://kontempluj.pl/wp-content/uploads/2025/03/Rycerka-2.jpg
END:VEVENT
END:VCALENDAR