BEGIN:VCALENDAR
VERSION:2.0
PRODID:-//kontempluj.pl - ECPv6.6.1//NONSGML v1.0//EN
CALSCALE:GREGORIAN
METHOD:PUBLISH
X-ORIGINAL-URL:https://kontempluj.pl
X-WR-CALDESC:Wydarzenia dla kontempluj.pl
REFRESH-INTERVAL;VALUE=DURATION:PT1H
X-Robots-Tag:noindex
X-PUBLISHED-TTL:PT1H
BEGIN:VTIMEZONE
TZID:Europe/Warsaw
BEGIN:DAYLIGHT
TZOFFSETFROM:+0100
TZOFFSETTO:+0200
TZNAME:CEST
DTSTART:20250330T010000
END:DAYLIGHT
BEGIN:STANDARD
TZOFFSETFROM:+0200
TZOFFSETTO:+0100
TZNAME:CET
DTSTART:20251026T010000
END:STANDARD
END:VTIMEZONE
BEGIN:VEVENT
DTSTART;TZID=Europe/Warsaw:20250319T193000
DTEND;TZID=Europe/Warsaw:20250319T210000
DTSTAMP:20260420T122520
CREATED:20250319T094106Z
LAST-MODIFIED:20250319T094216Z
UID:2156-1742412600-1742418000@kontempluj.pl
SUMMARY:Konferencja online - webinar - o. Mateusz Filipowski
DESCRIPTION:WEBINAR: Konferencja online + Q&A\n\n\n\n\nCzy czujesz\, że Twoja modlitwa potrzebuje ożywienia? Pragniesz głębszej relacji z Bogiem\, ale nie wiesz\, jak ją osiągnąć? Potrzebujesz światła na trudniejsze etapy życia duchowego? Weź udział w wydarzeniu\, by poznać sekrety modlitwy kontemplacyjnej i nauczyć się czerpać z niej siłę do duchowego wzrostu. \nNie czekaj\, zarezerwuj swoje miejsce już dziś! \n\n\n\n\nModlitwa życiem\n\n\n\n\nKontemplacja to droga ciszy\, głębi i przemiany. To zanurzenie w Bożej obecności\, które prowadzi do prawdziwej wolności i pokoju serca. Jeśli szukasz duchowej głębi\, chcesz uporządkować swoje życie modlitwy i poznać perspektywę duchowości karmelitańskiej oraz tradycji Ojców Kościoła na procesy\, jakie zachodzą na tej ścieżce – ten cykl webinarów jest dla Ciebie. Odkryj moc kontemplacji i odmień swoje życie duchowe! \nW czasie webinarów: \n\npoznasz fundamenty modlitwy kontemplacyjnej od doświadczonego karmelity i kierownika duchowego\,\ndowiesz się\, jak radzić sobie z trudnościami na drodze duchowej.\nodkryjesz sens “ciemnych nocy duszy” i nauczysz się przeżywać je z ufnością\,\ndowiesz się jak budować silną relację z Bogiem w codziennym życiu.\n\nCykl składa się z trzech spotkań na żywo. Nagrania zostaną udostępnione uczestnikom po wydarzeniu. \n\n\n\n\nProwadzący: Ojciec Mateusz Filipowski OCD\n\n\n\n\n\n\n\n\n\n\n\n\nKarmelita bosy\, ukończył studia doktoranckie z patrologii na UKSW w Warszawie. Rekolekcjonista w Karmelitańskim Ośrodku Rekolekcyjnym w Gorzędzieju\, kierownik duchowy i duszpasterz osób skrzywdzonych seksualnie. Przez blisko dwa lata żył w karmelitańskim eremie na pustyni\, zgłębiając tajniki życia kontemplacyjnego. Łączy głęboką wiedzę teologiczną z praktycznym doświadczeniem życia pustelniczego i duszpasterskiego. \n“Kiedy nie można uzyskać żadnego zewnętrznego spokoju (…) wtedy przynajmniej na mgnienie oka wycofujemy się w głąb siebie i biegniemy do Pana. On tam jest i może nam dać to\, czego potrzebujemy w jednej chwili.” – Edyta Stein
URL:https://kontempluj.pl/wydarzenie/konferencja-online-webinar-o-mateusz-filipowski/
CATEGORIES:webinar
ATTACH;FMTTYPE=image/png:https://kontempluj.pl/wp-content/uploads/2025/03/1.png
ORGANIZER;CN="Fundacja Pog%C5%82%C4%99biarka":MAILTO:kontakt@poglebiarka.pl
END:VEVENT
BEGIN:VEVENT
DTSTART;VALUE=DATE:20250321
DTEND;VALUE=DATE:20250324
DTSTAMP:20260420T122520
CREATED:20250306T112003Z
LAST-MODIFIED:20250306T131743Z
UID:1919-1742515200-1742774399@kontempluj.pl
SUMMARY:Sesja medytacyjna OMC Zduńska Wola
DESCRIPTION:Sesja medytacyjna organizowana przez Ośrodek Medytacji Chrześcijańskiej. \nProwadzący: o. Maksymilian Nawara OSB \nRozpoczęcie zapisów: 13 stycznia 2025\, godz. 19:00
URL:https://kontempluj.pl/wydarzenie/sesja-medytacyjna-omc-zdunska-wola/
LOCATION:Centrum Rekolekcyjno-Konferencyjne im. Św. Alojzego Orione w Zduńskiej Woli\, Łaska 88\, 98-220 Zduńska Wola\, Zduńska Wola\, 98-220\, Poland
CATEGORIES:Rekolekcje
ATTACH;FMTTYPE=image/jpeg:https://kontempluj.pl/wp-content/uploads/2025/03/dommisyjny.jpg
ORGANIZER;CN="O%C5%9Brodek Medytacji Chrze%C5%9Bcija%C5%84skiej w Lubiniu":MAILTO:osrodek@lubin-medytacje.pl
END:VEVENT
BEGIN:VEVENT
DTSTART;TZID=Europe/Warsaw:20250321T180000
DTEND;TZID=Europe/Warsaw:20250323T150000
DTSTAMP:20260420T122520
CREATED:20250305T134650Z
LAST-MODIFIED:20250305T153717Z
UID:1878-1742580000-1742742000@kontempluj.pl
SUMMARY:Moje Serce Domem Ojca - Olsza k/Łodzi
DESCRIPTION:Moje Serce – domem Ojca \nWielki Post to czas szczególnego zaproszenia – by skierować swoją uwagę ku temu\, co kryje nasze serce. To szansa\, by podążyć w głąb\, zmierzyć się z trudnościami i przeszkodami\, które blokują dostęp do jego głębi. Przez ile warstw i złogów trzeba się przedostać\, ile z nich usunąć i oczyścić\, by na nowo zamieszkać w przestrzeni serca\, która okazuje się jednocześnie prawdziwym domem Ojca\, miejscem zamieszkania Trójcy. \nOdkrywanie bogactwa własnego serca wymaga odwagi – wymaga decyzji\, by wyruszyć w drogę. Nie jesteśmy jednak sami.\nMiłość\, która zaprasza\, jest pełna mocy i mądrości. Jeśli czujesz\, że to wezwanie jest również dla Ciebie\, zapraszamy Cię do wspólnej wędrówki – w ciszy\, w głębi\, w otwartości. \nTo będzie integralne doświadczenie pracy duchowej\, w którym: \n✨ wejdziemy w ciszę i milczenie\, otwierając się na głębsze słuchanie\, \n✨ znajdziemy przestrzeń na indywidualną refleksję i samotność\, ale również możliwość osobistej rozmowy z o. Wojciechem\, \n✨ połączymy duchowość z pracą z ciałem – poprzez ruch intuicyjny i terapię Bowena\, \n✨ uczestniczyć będziemy w prowadzonych medytacjach\, które otworzą naszą wewnętrzną przestrzeń serca. \nTo rekolekcje dla tych\, którzy pragną odnaleźć w sercu swój dom i pozwolić Miłości poprowadzić się dalej. \n🕊️ Nie obawiaj się. Dołącz do nas.
URL:https://kontempluj.pl/wydarzenie/moje-serce-domem-ojca-olsza/
LOCATION:Ognisko Miłości w Olszy\, Olsza 33\, Olsza\, 95-063\, Poland
CATEGORIES:Rekolekcje
ATTACH;FMTTYPE=image/jpeg:https://kontempluj.pl/wp-content/uploads/2025/03/Znak-1024x682-1.jpg
END:VEVENT
BEGIN:VEVENT
DTSTART;TZID=Europe/Warsaw:20250326T193000
DTEND;TZID=Europe/Warsaw:20250326T210000
DTSTAMP:20260420T122520
CREATED:20250319T094309Z
LAST-MODIFIED:20250319T094309Z
UID:2159-1743017400-1743022800@kontempluj.pl
SUMMARY:Konferencja online - webinar - o. Mateusz Filipowski
DESCRIPTION:WEBINAR: Konferencja online + Q&A\n\n\n\n\nCzy czujesz\, że Twoja modlitwa potrzebuje ożywienia? Pragniesz głębszej relacji z Bogiem\, ale nie wiesz\, jak ją osiągnąć? Potrzebujesz światła na trudniejsze etapy życia duchowego? Weź udział w wydarzeniu\, by poznać sekrety modlitwy kontemplacyjnej i nauczyć się czerpać z niej siłę do duchowego wzrostu. \nNie czekaj\, zarezerwuj swoje miejsce już dziś! \n\n\n\n\nModlitwa życiem\n\n\n\n\nKontemplacja to droga ciszy\, głębi i przemiany. To zanurzenie w Bożej obecności\, które prowadzi do prawdziwej wolności i pokoju serca. Jeśli szukasz duchowej głębi\, chcesz uporządkować swoje życie modlitwy i poznać perspektywę duchowości karmelitańskiej oraz tradycji Ojców Kościoła na procesy\, jakie zachodzą na tej ścieżce – ten cykl webinarów jest dla Ciebie. Odkryj moc kontemplacji i odmień swoje życie duchowe! \nW czasie webinarów: \n\npoznasz fundamenty modlitwy kontemplacyjnej od doświadczonego karmelity i kierownika duchowego\,\ndowiesz się\, jak radzić sobie z trudnościami na drodze duchowej.\nodkryjesz sens “ciemnych nocy duszy” i nauczysz się przeżywać je z ufnością\,\ndowiesz się jak budować silną relację z Bogiem w codziennym życiu.\n\nCykl składa się z trzech spotkań na żywo. Nagrania zostaną udostępnione uczestnikom po wydarzeniu. \n\n\n\n\nProwadzący: Ojciec Mateusz Filipowski OCD\n\n\n\n\n\n\n\n\n\n\n\n\nKarmelita bosy\, ukończył studia doktoranckie z patrologii na UKSW w Warszawie. Rekolekcjonista w Karmelitańskim Ośrodku Rekolekcyjnym w Gorzędzieju\, kierownik duchowy i duszpasterz osób skrzywdzonych seksualnie. Przez blisko dwa lata żył w karmelitańskim eremie na pustyni\, zgłębiając tajniki życia kontemplacyjnego. Łączy głęboką wiedzę teologiczną z praktycznym doświadczeniem życia pustelniczego i duszpasterskiego. \n“Kiedy nie można uzyskać żadnego zewnętrznego spokoju (…) wtedy przynajmniej na mgnienie oka wycofujemy się w głąb siebie i biegniemy do Pana. On tam jest i może nam dać to\, czego potrzebujemy w jednej chwili.” – Edyta Stein
URL:https://kontempluj.pl/wydarzenie/konferencja-online-webinar-o-mateusz-filipowski-2/
CATEGORIES:webinar
ATTACH;FMTTYPE=image/png:https://kontempluj.pl/wp-content/uploads/2025/03/1.png
ORGANIZER;CN="Fundacja Pog%C5%82%C4%99biarka":MAILTO:kontakt@poglebiarka.pl
END:VEVENT
BEGIN:VEVENT
DTSTART;TZID=Europe/Warsaw:20250328T170000
DTEND;TZID=Europe/Warsaw:20250330T130000
DTSTAMP:20260420T122520
CREATED:20250305T155815Z
LAST-MODIFIED:20250305T160057Z
UID:1906-1743181200-1743339600@kontempluj.pl
SUMMARY:Oddychać imieniem - Opactwo Tynieckie - marzec
DESCRIPTION:Modlitwa Jezusowa jest starożytną praktyką modlitewną\, która pomaga każdemu i w każdej chwili żyć w łączności z Panem Bogiem. Jej prostota i głębia sprawiają\, że nie ma miejsca\, sytuacji\, stanu\, zawodu\, który uniemożliwiałby otrzymanie daru modlitwy nieustannej. Drogą do niej jest wierne i wytrwałe przyzywanie Imienia Jezus. „Niech pamięć o Jezusie złączy się z twym oddechem\, a wówczas poznasz pożytek wyciszenia” — powiada św. Jan Klimak. Do praktyki tej modlitwy chcemy zaprosić zarówno tych\, którzy ją znają\, jak i tych\, którzy jej nie doświadczyli. \nWarto wziąć ze sobą luźny i swobodny strój\, aby nie utrudniał on praktykowania różnych form modlitwy Jezusowej. \nFormy praktyki modlitwy Jezusowej:\n \n\nMedytacja siedząca – do medytacji siedzącej używamy poduszki\, klęcznika lub krzesła. Staramy się nie poruszać i utrzymać pozycję wyprostowaną. Każdą praktykę modlitwy Jezusowej rozpoczyna i kończy dźwięk dawany przez prowadzącego rekolekcje. Po zakończeniu medytacji siedzącej czynimy pokłon z rękami złożonymi w ramach podziękowania za wspólną modlitwę.\nMedytacja w ruchu – do medytacji w ruchu przechodzimy po medytacji siedzącej. Należy to uczynić w sposób płynny\, powolny i spokojny. W przypadku zdrętwienia nóg czy zawrotów głowy należy odczekać do momentu odzyskania pełni sił. Po usłyszeniu dźwięku rozpoczynamy ruch wokół mat. W czasie chodzenia można opuścić salę\, ale należy wrócić przed rozpoczęciem medytacji siedzącej. Medytację w ruchu kończy dźwięk dawany przez prowadzącego. Podczas medytacji w ruchu poruszamy się zgodnie z ruchem wskazówek zegara\, zachowując pomiędzy sobą równą odległość. Czas trwania tej praktyki to kilka minut. Podczas medytacji w ruchu należy poruszać się w sposób spokojny i równomierny. Staramy się nie zatrzymywać\, ale być cały czas w ruchu.\nMetanie – praktyka pokłonów poprzedza każdego dnia pierwszą medytację siedzącą. Ten starożytny gest modlitewny jest jednym ze sposobów okazania czci dla naszego Boga. Prowadzący medytację podaje jego zasady i wprowadza do wykonywania tej praktyki.\n\nSala do medytacji – jest to miejsce praktyki modlitwy Jezusowej. Przed wejściem do sali medytacyjnej zdejmujemy buty. Wchodząc do sali oddajemy pokłon krzyżowi na stojąco ze złożonymi rękoma. Następnie podchodzimy do maty i stajemy blisko jej krawędzi. Nie przechodzimy przez środek sali. Zawsze poruszamy się po zewnętrznej stronie mat\, tak jak podczas medytacji w ruchu. Wychodząc z sali również oddajemy pokłon krzyżowi. Sala jest miejscem wspólnej modlitwy\, dlatego tutaj nie rozmawiamy\, zachowując skupienie. Każdą czynność staramy się wykonać spokojnie\, bez pośpiechu\, z należytą koncentracją\, bez niepotrzebnych rozproszeń. Przed pierwszą medytacją wybieramy matę i poduszkę lub klęcznik\, gdzie będziemy siedzieć już do końca rekolekcji. Po wybraniu miejsca stoimy przed swoją matą i czekamy na znak\, aby się pokłonić wszystkim. Następnie siadamy na macie\, twarzami do siebie. \nMonastyczna Liturgia Godzin – uczestnicy sesji medytacyjnej są zaproszeni do udziału we wszystkich modlitwach z mnichami w kościele. W Vedemecum tynieckim\, które otrzymuje każdy uczestnik rekolekcji\, podane są strony w brewiarzu na poszczególne godziny Liturgii Godzin oraz teksty łacińskie na nieszpory i kompletę. \nMilczenie – ważnym elementem całego okresu rekolekcji jest praktyka ciszy. Milczenie jest jednym z podstawowych warunków rozwoju duchowego. Pozwala skierować umysł i myśli ku wnętrzu\, zachować skupienie i koncentrację. Praktyka milczenia sprzyja poznawaniu samego siebie\, bycia ze sobą. Wszyscy uczestnicy rekolekcji są zaproszeni do przeżycia tego czasu w skupieniu. Dotyczy to również spożywania posiłków. \nCeremonia koła – kończy rekolekcje. Wtedy siadamy wszyscy w kręgu i możemy podzielić się swoimi odczuciami i refleksjami. To również okazja dla każdego do podziękowania wszystkim za wspólną praktykę modlitwy Jezusowej. Poznanie doświadczenia innych bardzo pomaga w pogłębieniu własnej praktyki. \nAdresaci: Wszyscy\, którzy są zainteresowani modlitwą Imieniem Jezus.
URL:https://kontempluj.pl/wydarzenie/oddychac-imieniem-opactwo-tynieckie-marzec/
LOCATION:Opactwo Benedyktynów w Tyńcu\, Benedyktyńska 37\, 30-398 Kraków\, Kraków\, 30-398
CATEGORIES:Rekolekcje
ATTACH;FMTTYPE=image/jpeg:https://kontempluj.pl/wp-content/uploads/2025/03/brunon_koniecko.jpg
END:VEVENT
END:VCALENDAR