BEGIN:VCALENDAR
VERSION:2.0
PRODID:-//kontempluj.pl - ECPv6.6.1//NONSGML v1.0//EN
CALSCALE:GREGORIAN
METHOD:PUBLISH
X-ORIGINAL-URL:https://kontempluj.pl
X-WR-CALDESC:Wydarzenia dla kontempluj.pl
REFRESH-INTERVAL;VALUE=DURATION:PT1H
X-Robots-Tag:noindex
X-PUBLISHED-TTL:PT1H
BEGIN:VTIMEZONE
TZID:Europe/Warsaw
BEGIN:DAYLIGHT
TZOFFSETFROM:+0100
TZOFFSETTO:+0200
TZNAME:CEST
DTSTART:20250330T010000
END:DAYLIGHT
BEGIN:STANDARD
TZOFFSETFROM:+0200
TZOFFSETTO:+0100
TZNAME:CET
DTSTART:20251026T010000
END:STANDARD
END:VTIMEZONE
BEGIN:VEVENT
DTSTART;VALUE=DATE:20250704
DTEND;VALUE=DATE:20250712
DTSTAMP:20260420T093109
CREATED:20250306T140018Z
LAST-MODIFIED:20250306T140756Z
UID:1960-1751587200-1752278399@kontempluj.pl
SUMMARY:Festiwal Głębi - II turnus Mazury
DESCRIPTION:Wspólnie stworzymy inspirującą i bezpieczną przestrzeń umożliwiającą zintegrowany rozwój\, odpoczynek\, zabawę oraz budowanie autentycznych\, głębokich relacji z Bogiem\, który jest Życiem\, z drugim człowiekiem i z samym sobą. \nPodczas Festiwalu Głębi łączymy psychologię\, duchowość i ciało\, widząc w tym połączeniu ogromny potencjał i szansę na szczęśliwe i uważne życie. \nProwadzący: \n\nbr. Adam Zwierz\nMichał Tlałka\nMagdalena Poprawa\ns. Zuzanna Głasek\nMarta Łazarczyk\nMarcin Lewandowski\nSandra Bernadetta Tatarczak\no. Mateusz Filipowski OCD\nPatrycja Lenart\nMateusz Banasiuk\nAgata Gregorkiewicz\nUrszula Dąbrowska\nRenata Werpachowska\no. Rafał Huzarski SJ\nAgnieszka Zaborowska
URL:https://kontempluj.pl/wydarzenie/festiwal-glebi-ii-turnus-mazury/
LOCATION:Ośrodek Wiatraki\, Ośrodek Wiatraki Marózek 1\, 11-015\, Marózek\, 11-015\, Poland
CATEGORIES:Rekolekcje
ATTACH;FMTTYPE=image/jpeg:https://kontempluj.pl/wp-content/uploads/2025/03/wiatraki.jpg
ORGANIZER;CN="Fundacja Pog%C5%82%C4%99biarka":MAILTO:kontakt@poglebiarka.pl
END:VEVENT
BEGIN:VEVENT
DTSTART;VALUE=DATE:20250712
DTEND;VALUE=DATE:20250720
DTSTAMP:20260420T093109
CREATED:20250306T140521Z
LAST-MODIFIED:20250306T140521Z
UID:1964-1752278400-1752969599@kontempluj.pl
SUMMARY:Festiwal Głębi - III turnus Mazury
DESCRIPTION:Wspólnie stworzymy inspirującą i bezpieczną przestrzeń umożliwiającą zintegrowany rozwój\, odpoczynek\, zabawę oraz budowanie autentycznych\, głębokich relacji z Bogiem\, który jest Życiem\, z drugim człowiekiem i z samym sobą. \nPodczas Festiwalu Głębi łączymy psychologię\, duchowość i ciało\, widząc w tym połączeniu ogromny potencjał i szansę na szczęśliwe i uważne życie. \nProwadzący: \n\nGabriela Klusek\nAleksandra Salej\no. Maciej Biskup OP\nTomasz Przybylski\ns. Zuzanna Głasek\nAlicja Owczarek\no. Brunon Koniecko OSB\nMarta Abramczyk\nArek Nalej\no. Mateusz Paluch OP\nMaja Wyborska\nAgnieszka Zaborowska\nAnna Ałaj\nUrszula Dąbrowska\no. Rafał Huzarski SJ\no. Dariusz Piórkowski SJ
URL:https://kontempluj.pl/wydarzenie/festiwal-glebi-iii-turnus-mazury/
LOCATION:Ośrodek Wiatraki\, Ośrodek Wiatraki Marózek 1\, 11-015\, Marózek\, 11-015\, Poland
CATEGORIES:Rekolekcje
ATTACH;FMTTYPE=image/jpeg:https://kontempluj.pl/wp-content/uploads/2025/03/wiatraki.jpg
ORGANIZER;CN="Fundacja Pog%C5%82%C4%99biarka":MAILTO:kontakt@poglebiarka.pl
END:VEVENT
BEGIN:VEVENT
DTSTART;VALUE=DATE:20250721
DTEND;VALUE=DATE:20250728
DTSTAMP:20260420T093109
CREATED:20250306T121207Z
LAST-MODIFIED:20250306T121207Z
UID:1938-1753056000-1753660799@kontempluj.pl
SUMMARY:Sesja medytacyjna OMC Lubin tygodniowe
DESCRIPTION:Sesja medytacyjna organizowana przez Ośrodek Medytacji Chrześcijańskiej. \nProwadzący: o. Maksymilian Nawara OSB \nRozpoczęcie zapisów: 5 maja 2024\, godz. 19:00
URL:https://kontempluj.pl/wydarzenie/sesja-medytacyjna-omc-lubin-tygodniowe/
LOCATION:Opactwo Benedyktynów w Lubiniu\, Opactwo Benedyktynów w Lubiniu\, Mickiewicza 6\, 64-010 Lubiń\, Lubiń\, 64-010
CATEGORIES:Rekolekcje
ATTACH;FMTTYPE=image/jpeg:https://kontempluj.pl/wp-content/uploads/2025/03/lubin-1.jpg
ORGANIZER;CN="O%C5%9Brodek Medytacji Chrze%C5%9Bcija%C5%84skiej w Lubiniu":MAILTO:osrodek@lubin-medytacje.pl
END:VEVENT
BEGIN:VEVENT
DTSTART;VALUE=DATE:20250822
DTEND;VALUE=DATE:20250825
DTSTAMP:20260420T093109
CREATED:20250306T121512Z
LAST-MODIFIED:20250306T121601Z
UID:1940-1755820800-1756079999@kontempluj.pl
SUMMARY:Sesja medytacyjna OMC Olsztyn k/Częstochowy sierpień
DESCRIPTION:Sesja medytacyjna organizowana przez Ośrodek Medytacji Chrześcijańskiej. \nProwadzący: Dariusz Hybel \nRozpoczęcie zapisów: 2 czerwca 2025\, godz. 19:00
URL:https://kontempluj.pl/wydarzenie/sesja-medytacyjna-omc-olsztyn-k-czestochowy-sierpien/
LOCATION:Centrum Duchowości Archidiecezji Częstochowskiej Święta Puszcza\, Centrum Duchowości Święta Puszcza\, Świętej Puszczy 6\, 42-256 Olsztyn\, Olsztyn\, 42-256\, Poland
CATEGORIES:Rekolekcje
ATTACH;FMTTYPE=image/jpeg:https://kontempluj.pl/wp-content/uploads/2025/03/swietapuszcza.jpeg
ORGANIZER;CN="O%C5%9Brodek Medytacji Chrze%C5%9Bcija%C5%84skiej w Lubiniu":MAILTO:osrodek@lubin-medytacje.pl
END:VEVENT
BEGIN:VEVENT
DTSTART;VALUE=DATE:20250919
DTEND;VALUE=DATE:20250922
DTSTAMP:20260420T093109
CREATED:20250306T122027Z
LAST-MODIFIED:20250306T122027Z
UID:1942-1758240000-1758499199@kontempluj.pl
SUMMARY:Sesja medytacyjna Pieniężno
DESCRIPTION:Sesja medytacyjna organizowana przez Ośrodek Medytacji Chrześcijańskiej. \nProwadzący: Dariusz Hybel \nRozpoczęcie zapisów: 30 czerwca 2025\, godz. 19:00
URL:https://kontempluj.pl/wydarzenie/sesja-medytacyjna-pieniezno/
LOCATION:Dom Misyjny św. Wojciecha oo. Werbistów\, Pieniężno\, Dom Misyjny św. Wojciecha oo. Werbistów\, ieniężno Pierwsze 19\, 14-520 Pieniężno Pierwsze\, Pieniężno Pierwsze\, 14-520\, Poland
CATEGORIES:Rekolekcje
ATTACH;FMTTYPE=image/jpeg:https://kontempluj.pl/wp-content/uploads/2025/03/dom_misyjny_pieniezno.jpg
ORGANIZER;CN="O%C5%9Brodek Medytacji Chrze%C5%9Bcija%C5%84skiej w Lubiniu":MAILTO:osrodek@lubin-medytacje.pl
END:VEVENT
BEGIN:VEVENT
DTSTART;VALUE=DATE:20251010
DTEND;VALUE=DATE:20251013
DTSTAMP:20260420T093109
CREATED:20250306T125708Z
LAST-MODIFIED:20250306T125708Z
UID:1946-1760054400-1760313599@kontempluj.pl
SUMMARY:Sesja medytacyjna OMC Hermanówka
DESCRIPTION:Sesja medytacyjna organizowana przez Ośrodek Medytacji Chrześcijańskiej. \nProwadzący: o. Maksymilian Nawara OSB \nRozpoczęcie zapisów: 7 lipca 2025\, godz. 19:00
URL:https://kontempluj.pl/wydarzenie/sesja-medytacyjna-omc-hermanowka/
LOCATION:Dom Rekolekcyjny Wspólnoty Kairos\, Dom Rekolekcyjny Wspólnoty Kairos\, Hermanówka 2\, 16-061 Juchnowiec Kościelny\, Juchnowiec Kościelny\, 16-061\, Poland
CATEGORIES:Rekolekcje
ATTACH;FMTTYPE=image/png:https://kontempluj.pl/wp-content/uploads/2025/03/dom_Hermanowka.png
ORGANIZER;CN="O%C5%9Brodek Medytacji Chrze%C5%9Bcija%C5%84skiej w Lubiniu":MAILTO:osrodek@lubin-medytacje.pl
END:VEVENT
BEGIN:VEVENT
DTSTART;VALUE=DATE:20251121
DTEND;VALUE=DATE:20251124
DTSTAMP:20260420T093109
CREATED:20250306T131432Z
LAST-MODIFIED:20250306T131432Z
UID:1950-1763683200-1763942399@kontempluj.pl
SUMMARY:Sesja medytacyjna OMC Lubin listopad
DESCRIPTION:Sesja medytacyjna organizowana przez Ośrodek Medytacji Chrześcijańskiej. \nProwadzący: Dariusz Hybel \nRozpoczęcie zapisów: 1 września 2025\, godz. 19:00
URL:https://kontempluj.pl/wydarzenie/sesja-medytacyjna-omc-lubin-listopad/
LOCATION:Opactwo Benedyktynów w Lubiniu\, Opactwo Benedyktynów w Lubiniu\, Mickiewicza 6\, 64-010 Lubiń\, Lubiń\, 64-010
CATEGORIES:Rekolekcje
ATTACH;FMTTYPE=image/jpeg:https://kontempluj.pl/wp-content/uploads/2025/03/lubin-1.jpg
ORGANIZER;CN="O%C5%9Brodek Medytacji Chrze%C5%9Bcija%C5%84skiej w Lubiniu":MAILTO:osrodek@lubin-medytacje.pl
END:VEVENT
END:VCALENDAR