BEGIN:VCALENDAR
VERSION:2.0
PRODID:-//kontempluj.pl - ECPv6.6.1//NONSGML v1.0//EN
CALSCALE:GREGORIAN
METHOD:PUBLISH
X-WR-CALNAME:kontempluj.pl
X-ORIGINAL-URL:https://kontempluj.pl
X-WR-CALDESC:Wydarzenia dla kontempluj.pl
REFRESH-INTERVAL;VALUE=DURATION:PT1H
X-Robots-Tag:noindex
X-PUBLISHED-TTL:PT1H
BEGIN:VTIMEZONE
TZID:Europe/Warsaw
BEGIN:DAYLIGHT
TZOFFSETFROM:+0100
TZOFFSETTO:+0200
TZNAME:CEST
DTSTART:20250330T010000
END:DAYLIGHT
BEGIN:STANDARD
TZOFFSETFROM:+0200
TZOFFSETTO:+0100
TZNAME:CET
DTSTART:20251026T010000
END:STANDARD
END:VTIMEZONE
BEGIN:VEVENT
DTSTART;VALUE=DATE:20250620
DTEND;VALUE=DATE:20250623
DTSTAMP:20260420T091414
CREATED:20250306T120754Z
LAST-MODIFIED:20250306T132241Z
UID:1934-1750377600-1750636799@kontempluj.pl
SUMMARY:Sesja medytacyjna OMC Olsztyn k/Częstochowy
DESCRIPTION:Sesja medytacyjna organizowana przez Ośrodek Medytacji Chrześcijańskiej. \nProwadzący: o. Maksymilian Nawara OSB \nRozpoczęcie zapisów: 14 kwietnia 2025\, godz. 19:00
URL:https://kontempluj.pl/wydarzenie/sesja-medytacyjna-omc-olsztyn-k-czestochowy/
LOCATION:Centrum Duchowości Archidiecezji Częstochowskiej Święta Puszcza\, Centrum Duchowości Święta Puszcza\, Świętej Puszczy 6\, 42-256 Olsztyn\, Olsztyn\, 42-256\, Poland
CATEGORIES:Rekolekcje
ATTACH;FMTTYPE=image/jpeg:https://kontempluj.pl/wp-content/uploads/2025/03/swietapuszcza.jpeg
ORGANIZER;CN="O%C5%9Brodek Medytacji Chrze%C5%9Bcija%C5%84skiej w Lubiniu":MAILTO:osrodek@lubin-medytacje.pl
END:VEVENT
BEGIN:VEVENT
DTSTART;TZID=Europe/Warsaw:20250620T170000
DTEND;TZID=Europe/Warsaw:20250622T130000
DTSTAMP:20260420T091414
CREATED:20250305T160356Z
LAST-MODIFIED:20250305T160356Z
UID:1915-1750438800-1750597200@kontempluj.pl
SUMMARY:Oddychać imieniem - Opactwo Tynieckie - czerwiec
DESCRIPTION:Modlitwa Jezusowa jest starożytną praktyką modlitewną\, która pomaga każdemu i w każdej chwili żyć w łączności z Panem Bogiem. Jej prostota i głębia sprawiają\, że nie ma miejsca\, sytuacji\, stanu\, zawodu\, który uniemożliwiałby otrzymanie daru modlitwy nieustannej. Drogą do niej jest wierne i wytrwałe przyzywanie Imienia Jezus. „Niech pamięć o Jezusie złączy się z twym oddechem\, a wówczas poznasz pożytek wyciszenia” — powiada św. Jan Klimak. Do praktyki tej modlitwy chcemy zaprosić zarówno tych\, którzy ją znają\, jak i tych\, którzy jej nie doświadczyli. \nWarto wziąć ze sobą luźny i swobodny strój\, aby nie utrudniał on praktykowania różnych form modlitwy Jezusowej. \nFormy praktyki modlitwy Jezusowej:\n \n\nMedytacja siedząca – do medytacji siedzącej używamy poduszki\, klęcznika lub krzesła. Staramy się nie poruszać i utrzymać pozycję wyprostowaną. Każdą praktykę modlitwy Jezusowej rozpoczyna i kończy dźwięk dawany przez prowadzącego rekolekcje. Po zakończeniu medytacji siedzącej czynimy pokłon z rękami złożonymi w ramach podziękowania za wspólną modlitwę.\nMedytacja w ruchu – do medytacji w ruchu przechodzimy po medytacji siedzącej. Należy to uczynić w sposób płynny\, powolny i spokojny. W przypadku zdrętwienia nóg czy zawrotów głowy należy odczekać do momentu odzyskania pełni sił. Po usłyszeniu dźwięku rozpoczynamy ruch wokół mat. W czasie chodzenia można opuścić salę\, ale należy wrócić przed rozpoczęciem medytacji siedzącej. Medytację w ruchu kończy dźwięk dawany przez prowadzącego. Podczas medytacji w ruchu poruszamy się zgodnie z ruchem wskazówek zegara\, zachowując pomiędzy sobą równą odległość. Czas trwania tej praktyki to kilka minut. Podczas medytacji w ruchu należy poruszać się w sposób spokojny i równomierny. Staramy się nie zatrzymywać\, ale być cały czas w ruchu.\nMetanie – praktyka pokłonów poprzedza każdego dnia pierwszą medytację siedzącą. Ten starożytny gest modlitewny jest jednym ze sposobów okazania czci dla naszego Boga. Prowadzący medytację podaje jego zasady i wprowadza do wykonywania tej praktyki.\n\nSala do medytacji – jest to miejsce praktyki modlitwy Jezusowej. Przed wejściem do sali medytacyjnej zdejmujemy buty. Wchodząc do sali oddajemy pokłon krzyżowi na stojąco ze złożonymi rękoma. Następnie podchodzimy do maty i stajemy blisko jej krawędzi. Nie przechodzimy przez środek sali. Zawsze poruszamy się po zewnętrznej stronie mat\, tak jak podczas medytacji w ruchu. Wychodząc z sali również oddajemy pokłon krzyżowi. Sala jest miejscem wspólnej modlitwy\, dlatego tutaj nie rozmawiamy\, zachowując skupienie. Każdą czynność staramy się wykonać spokojnie\, bez pośpiechu\, z należytą koncentracją\, bez niepotrzebnych rozproszeń. Przed pierwszą medytacją wybieramy matę i poduszkę lub klęcznik\, gdzie będziemy siedzieć już do końca rekolekcji. Po wybraniu miejsca stoimy przed swoją matą i czekamy na znak\, aby się pokłonić wszystkim. Następnie siadamy na macie\, twarzami do siebie. \nMonastyczna Liturgia Godzin – uczestnicy sesji medytacyjnej są zaproszeni do udziału we wszystkich modlitwach z mnichami w kościele. W Vedemecum tynieckim\, które otrzymuje każdy uczestnik rekolekcji\, podane są strony w brewiarzu na poszczególne godziny Liturgii Godzin oraz teksty łacińskie na nieszpory i kompletę. \nMilczenie – ważnym elementem całego okresu rekolekcji jest praktyka ciszy. Milczenie jest jednym z podstawowych warunków rozwoju duchowego. Pozwala skierować umysł i myśli ku wnętrzu\, zachować skupienie i koncentrację. Praktyka milczenia sprzyja poznawaniu samego siebie\, bycia ze sobą. Wszyscy uczestnicy rekolekcji są zaproszeni do przeżycia tego czasu w skupieniu. Dotyczy to również spożywania posiłków. \nCeremonia koła – kończy rekolekcje. Wtedy siadamy wszyscy w kręgu i możemy podzielić się swoimi odczuciami i refleksjami. To również okazja dla każdego do podziękowania wszystkim za wspólną praktykę modlitwy Jezusowej. Poznanie doświadczenia innych bardzo pomaga w pogłębieniu własnej praktyki. \nAdresaci: Wszyscy\, którzy są zainteresowani modlitwą Imieniem Jezus.
URL:https://kontempluj.pl/wydarzenie/oddychac-imieniem-opactwo-tynieckie-czerwiec/
LOCATION:Opactwo Benedyktynów w Tyńcu\, Benedyktyńska 37\, 30-398 Kraków\, Kraków\, 30-398
CATEGORIES:Rekolekcje
ATTACH;FMTTYPE=image/jpeg:https://kontempluj.pl/wp-content/uploads/2025/03/brunon_koniecko.jpg
END:VEVENT
END:VCALENDAR