BEGIN:VCALENDAR
VERSION:2.0
PRODID:-//kontempluj.pl - ECPv6.6.1//NONSGML v1.0//EN
CALSCALE:GREGORIAN
METHOD:PUBLISH
X-ORIGINAL-URL:https://kontempluj.pl
X-WR-CALDESC:Wydarzenia dla kontempluj.pl
REFRESH-INTERVAL;VALUE=DURATION:PT1H
X-Robots-Tag:noindex
X-PUBLISHED-TTL:PT1H
BEGIN:VTIMEZONE
TZID:Europe/Warsaw
BEGIN:DAYLIGHT
TZOFFSETFROM:+0100
TZOFFSETTO:+0200
TZNAME:CEST
DTSTART:20250330T010000
END:DAYLIGHT
BEGIN:STANDARD
TZOFFSETFROM:+0200
TZOFFSETTO:+0100
TZNAME:CET
DTSTART:20251026T010000
END:STANDARD
END:VTIMEZONE
BEGIN:VEVENT
DTSTART;TZID=Europe/Warsaw:20250425T180000
DTEND;TZID=Europe/Warsaw:20250427T133000
DTSTAMP:20260420T122152
CREATED:20250305T153229Z
LAST-MODIFIED:20250305T153640Z
UID:1898-1745604000-1745760600@kontempluj.pl
SUMMARY:Tchnienie ciszy - Rycerka Górna
DESCRIPTION:Sesja „Tchnienie ciszy” jest zaproszeniem do wspólnego wejścia w przestrzeń serca\, gdzie możemy odkrywać Odwieczną Miłość\, którą najczęściej nazywamy Bogiem. To przebywanie w blasku miłości dokonuje się w ciszy i w postawie całkowitego zaufania i zgody na to\, by zostać przemienionym mocą tejże miłości\, praktykę tę nazywamy – modlitwą głębi. Chociaż w naszej sesji akcent pada na rozwój duchowy\, to jednak nie może być oderwany od ciała i umysłu. Dlatego znajdziemy czas na pracę z ciałem i ruch\, w tańcu intuicyjnym\, oraz słowa\, które bedą pokarmem dla naszego umysłu. Gdy dołączymy do tego piękno miejsca\, w którym będziemy i piękno ludzi\, którzy będą razem z nami\, wtedy otwiera się przed nami perspektywa czasu przemiany\, wzrostu i dojrzewania\, za którym tęskni nasze serce i dusza.
URL:https://kontempluj.pl/wydarzenie/moje-serce-domem-ojca-rycerka-gorna/
LOCATION:Dom Rekolekcyjny Zgromadzenia Świętego Michała Archanioła\, Dom Rekolekcyjny Zgromadzenia Świętego Michała Archanioła\, Rycerka Górna 147\, Rycerka Górna\, 34-370\, Poland
CATEGORIES:Rekolekcje
ATTACH;FMTTYPE=image/jpeg:https://kontempluj.pl/wp-content/uploads/2025/03/Rycerka-2.jpg
END:VEVENT
END:VCALENDAR